BEGIN:VCALENDAR
VERSION:2.0
PRODID:-//ESG BROADCAST - Latest ESG News, Headlines and Updates - ECPv6.15.20//NONSGML v1.0//EN
CALSCALE:GREGORIAN
METHOD:PUBLISH
X-WR-CALNAME:ESG BROADCAST - Latest ESG News, Headlines and Updates
X-ORIGINAL-URL:https://esgbroadcast.com
X-WR-CALDESC:Events for ESG BROADCAST - Latest ESG News, Headlines and Updates
REFRESH-INTERVAL;VALUE=DURATION:PT1H
X-Robots-Tag:noindex
X-PUBLISHED-TTL:PT1H
BEGIN:VTIMEZONE
TZID:America/New_York
BEGIN:DAYLIGHT
TZOFFSETFROM:-0500
TZOFFSETTO:-0400
TZNAME:EDT
DTSTART:20220313T070000
END:DAYLIGHT
BEGIN:STANDARD
TZOFFSETFROM:-0400
TZOFFSETTO:-0500
TZNAME:EST
DTSTART:20221106T060000
END:STANDARD
BEGIN:DAYLIGHT
TZOFFSETFROM:-0500
TZOFFSETTO:-0400
TZNAME:EDT
DTSTART:20230312T070000
END:DAYLIGHT
BEGIN:STANDARD
TZOFFSETFROM:-0400
TZOFFSETTO:-0500
TZNAME:EST
DTSTART:20231105T060000
END:STANDARD
BEGIN:DAYLIGHT
TZOFFSETFROM:-0500
TZOFFSETTO:-0400
TZNAME:EDT
DTSTART:20240310T070000
END:DAYLIGHT
BEGIN:STANDARD
TZOFFSETFROM:-0400
TZOFFSETTO:-0500
TZNAME:EST
DTSTART:20241103T060000
END:STANDARD
END:VTIMEZONE
BEGIN:VEVENT
DTSTART;TZID=America/New_York:20230323T110000
DTEND;TZID=America/New_York:20230323T120000
DTSTAMP:20260419T174757
CREATED:20230323T122109Z
LAST-MODIFIED:20230323T122231Z
UID:5989-1679569200-1679572800@esgbroadcast.com
SUMMARY:Tackling the electricity crisis in Europe: emergency intervention or a full revamp?
DESCRIPTION:About the Event:\n\n\n\nThe energy sector has experienced turmoil in the past two years. Covid-19 lockdowns sharply reduced energy demand\, causing prices to drop. Then the post-pandemic economic rebound increased demand amid supply shortages\, resulting in price hikes. In the last year\, Russia’s invasion of Ukraine has created further uncertainty in the European policy landscape and energy markets\, with supply disruptions of natural gas leading to record-high electricity prices. \n\n\n\nIn this insight hour\, join us to consider how best to tackle the energy crisis in Europe. Would a reduction in usage of natural gas\, and power overall\, be enough to mitigate supply-side tensions and help avoid scarcity during winter months? Is that reduction even achievable? Given all the factors at play\, what now needs to happen to support Europe in reaching its long-term climate objectives? What can be done to hasten the energy transition\, reduce European dependency in the areas of energy and raw materials\, and improve energy security for national economies? \n\n\n\nThis Insight Hour is programmed by Economist Impact and hosted by Deloitte. \n\n\n\n\n\n\nSee you tomorrow at the @EconomistEvents webinar on how best to tackle the electricity ⚡️ crisis in Europe.Many of the #cleanenergy solutions are available but we also need to make the timelines for phasing out fossil fuels more explicit.Register👉 https://t.co/dV7VcBbZz6 pic.twitter.com/6EtPA2HGMu — María Mendiluce (@mendiluce) March 22\, 2023
URL:https://esgbroadcast.com/event/tackling-the-electricity-crisis-in-europe-emergency-intervention-or-a-full-revamp/
CATEGORIES:Virtual Event
ATTACH;FMTTYPE=image/png:https://esgbroadcast.com/wp-content/uploads/2023/03/image-72.png
END:VEVENT
END:VCALENDAR